BEGIN:VCALENDAR
VERSION:2.0
PRODID:-//ADC.Family - ECPv6.15.20//NONSGML v1.0//EN
CALSCALE:GREGORIAN
METHOD:PUBLISH
X-WR-CALNAME:ADC.Family
X-ORIGINAL-URL:https://adc.family
X-WR-CALDESC:Events for ADC.Family
REFRESH-INTERVAL;VALUE=DURATION:PT1H
X-Robots-Tag:noindex
X-PUBLISHED-TTL:PT1H
BEGIN:VTIMEZONE
TZID:UTC
BEGIN:STANDARD
TZOFFSETFROM:+0000
TZOFFSETTO:+0000
TZNAME:UTC
DTSTART:20230101T000000
END:STANDARD
END:VTIMEZONE
BEGIN:VEVENT
DTSTART;VALUE=DATE:20250526
DTEND;VALUE=DATE:20250527
DTSTAMP:20260421T170406
CREATED:20250501T035333Z
LAST-MODIFIED:20250519T133901Z
UID:2653-1748217600-1748303999@adc.family
SUMMARY:Summer Challenge Starts!
DESCRIPTION:Dear Adventurers and Seekers of Summer Glory\, \nDust off your sneakers and ready your resolve—the ADC Summer Challenge is back! This year\, we embark on our most daring quest yet: a 6\,000-mile race around the globe\, passing through 17 world-famous cities\, from New York to Sydney. \n🌟 The mission? Earn miles through movement—walk\, run\, bike\, swim\, or stretch your way across continents using our faithful companion\, the Racery platform. You’ll track your progress and discover global landmarks as you go. \n🚫 Just a note: while backyard gardening still counts\, lounging on a floatie with a cocktail does not. This year’s rules are a bit stricter to keep things fair—and fun. \n📅 Important Dates \n\nRegister by: Thursday\, May 22\nChallenge runs: Memorial Day to Labor Day\n\nWhether you’re in it for the glory\, the team spirit\, or the scenic virtual journey\, we promise an unforgettable summer of connection\, movement\, and a dash of friendly rivalry. \n🧭 Join the journey here:\nhttps://adc.racery.com/r/around-the-world/registration \n📬 Questions? Reach out to Marketing@—our team is ready to help. \nHere’s to an epic summer adventure. The world awaits!
URL:https://adc.family/calendar/summer-challenge-starts/
CATEGORIES:ADC Activities,Seasonal Event
ATTACH;FMTTYPE=image/png:https://adc.family/wp-content/uploads/2025/05/Summer-Challenge-Graphic.png
END:VEVENT
BEGIN:VEVENT
DTSTART;VALUE=DATE:20250421
DTEND;VALUE=DATE:20250422
DTSTAMP:20260421T170406
CREATED:20250401T135211Z
LAST-MODIFIED:20250401T135817Z
UID:2359-1745193600-1745279999@adc.family
SUMMARY:Egg Decorating Contest 2025 Ends!
DESCRIPTION:We’re excited to kick off our very first Egg Decorating Contest! This year\, we’re inviting all ADC employees (and their families!) to get creative and show off your egg-decorating skills. Submit your photos through the link below from April 14th to April 21st\, and voting will take place on April 22nd! \nHere’s how it works: \n\n\nEarn 10 points for each team member that submits an entry. \n\n\nThe top 3 egg designs will win 100 points for 1st place\, 75 points for 2nd place\, and 50 points for 3rd place. \n\n\nDon’t miss out on the fun – let’s make this first-ever contest a cracking success!
URL:https://adc.family/calendar/egg-decorating-contest-2025/
CATEGORIES:ADC Activities,Seasonal Event
ATTACH;FMTTYPE=image/png:https://adc.family/wp-content/uploads/2025/04/Egg-Decorating-Graphic.png
END:VEVENT
BEGIN:VEVENT
DTSTART;VALUE=DATE:20250420
DTEND;VALUE=DATE:20250421
DTSTAMP:20260421T170406
CREATED:20250401T141500Z
LAST-MODIFIED:20250401T141500Z
UID:2364-1745107200-1745193599@adc.family
SUMMARY:Easter Sunday
DESCRIPTION:
URL:https://adc.family/calendar/easter-sunday/
CATEGORIES:Seasonal Event
ATTACH;FMTTYPE=image/png:https://adc.family/wp-content/uploads/2025/04/Easter-Graphic.png
END:VEVENT
BEGIN:VEVENT
DTSTART;VALUE=DATE:20250414
DTEND;VALUE=DATE:20250415
DTSTAMP:20260421T170406
CREATED:20250401T134839Z
LAST-MODIFIED:20250401T135742Z
UID:2355-1744588800-1744675199@adc.family
SUMMARY:Egg Decorating Contest 2025 Starts!
DESCRIPTION:We’re excited to kick off our very first Egg Decorating Contest! This year\, we’re inviting all ADC employees (and their families!) to get creative and show off your egg-decorating skills. Submit your photos through the link below from April 14th to April 21st\, and voting will take place on April 22nd! \nHere’s how it works: \n\n\nEarn 10 points for each team member that submits an entry. \n\n\nThe top 3 egg designs will win 100 points for 1st place\, 75 points for 2nd place\, and 50 points for 3rd place. \n\n\nDon’t miss out on the fun – let’s make this first-ever contest a cracking success!
URL:https://adc.family/calendar/egg-decorating-contest-2025-starts/
CATEGORIES:ADC Activities,Seasonal Event
ATTACH;FMTTYPE=image/png:https://adc.family/wp-content/uploads/2025/04/Egg-Decorating-Graphic.png
END:VEVENT
BEGIN:VEVENT
DTSTART;VALUE=DATE:20250217
DTEND;VALUE=DATE:20250218
DTSTAMP:20260421T170406
CREATED:20250203T123431Z
LAST-MODIFIED:20250203T123723Z
UID:1276-1739750400-1739836799@adc.family
SUMMARY:Presidents' Day 2025
DESCRIPTION:Happy Presidents’ Day!\nWishing everyone a great day as we honor the leadership and contributions of past presidents. Enjoy the holiday and the opportunity to reflect on our history!
URL:https://adc.family/calendar/presidents-day-2025/
CATEGORIES:Seasonal Event
ATTACH;FMTTYPE=image/png:https://adc.family/wp-content/uploads/2025/02/Presidents-Day-Graphic-1.png
END:VEVENT
BEGIN:VEVENT
DTSTART;VALUE=DATE:20250214
DTEND;VALUE=DATE:20250215
DTSTAMP:20260421T170406
CREATED:20250203T122646Z
LAST-MODIFIED:20250203T123642Z
UID:1273-1739491200-1739577599@adc.family
SUMMARY:Valentine's Day 2025
DESCRIPTION:Happy Valentine’s Day!\nWishing everyone a wonderful day filled with positivity and appreciation. Let’s spread kindness and good vibes today and every day!
URL:https://adc.family/calendar/valentines-day/
CATEGORIES:Seasonal Event
ATTACH;FMTTYPE=image/png:https://adc.family/wp-content/uploads/2025/02/Valentines-Day-Graphic.png
END:VEVENT
BEGIN:VEVENT
DTSTART;VALUE=DATE:20250101
DTEND;VALUE=DATE:20250102
DTSTAMP:20260421T170406
CREATED:20240930T141508Z
LAST-MODIFIED:20241119T201701Z
UID:516-1735689600-1735775999@adc.family
SUMMARY:New Year's Day - ADC Closed
DESCRIPTION:Our company will be closed on January 1 to ring in the New Year and celebrate with family and friends.
URL:https://adc.family/calendar/new-years-day-adc-closed/
CATEGORIES:Seasonal Event
ATTACH;FMTTYPE=image/png:https://adc.family/wp-content/uploads/2024/09/New-Years-Graphic.png
END:VEVENT
BEGIN:VEVENT
DTSTART;VALUE=DATE:20241227
DTEND;VALUE=DATE:20241228
DTSTAMP:20260421T170406
CREATED:20240930T135711Z
LAST-MODIFIED:20241206T144934Z
UID:502-1735257600-1735343999@adc.family
SUMMARY:Holiday Decorating Contest Submissions Due
DESCRIPTION:🎄 Submit your Holiday Decor photos by the end of the day! 🎅\nGet into the holiday spirit and show off your festive creativity in our Holiday Decor Contest! Whether you’re decking out your home inside 🏠 or outside 🎁\, we’re looking for your most imaginative and joyful designs. This year\, there are two exciting categories: \n🎄 Inside Decor Submission Form\n \n❄️ Outside Decor Submission Form
URL:https://adc.family/calendar/holiday-decorating-contest-submissions-due/
CATEGORIES:Seasonal Event
ATTACH;FMTTYPE=image/jpeg:https://adc.family/wp-content/uploads/2024/09/Holiday-Decor-Graphic-Final.jpg
END:VEVENT
BEGIN:VEVENT
DTSTART;VALUE=DATE:20241227
DTEND;VALUE=DATE:20241228
DTSTAMP:20260421T170406
CREATED:20241209T155710Z
LAST-MODIFIED:20241209T155727Z
UID:1209-1735257600-1735343999@adc.family
SUMMARY:Ugly Holiday Sweater Submissions Due!
DESCRIPTION:Ugly Holiday Sweater Contest – Deadline  \n⏰ Deadline Alert! You have until the end of the day to submit your entry for the Ugly Holiday Sweater Contest! Don’t miss out on the chance to show off your wildest\, wackiest\, and most wonderful holiday sweater and win some awesome prizes! \nHow to Enter: \n\nSnap a photo of yourself in your most outrageous holiday sweater.\nSubmit your photo by the end of the day to be eligible for prizes.\n\nPrizes:\n🎁 Top 3 ugliest sweaters in each category will win: \n\n1st Place: 1000 Nectar points\n2nd Place: 500 Nectar points\n3rd Place: 250 Nectar points\n\nBe sure to get your entry in before the clock runs out—let’s finish the season strong with some seriously ugly sweater flair! \nUgly Holiday Sweater Submission Form:
URL:https://adc.family/calendar/ugly-holiday-sweater-submissions-due/
CATEGORIES:Color Wars Points Challenge,Seasonal Event
ATTACH;FMTTYPE=image/png:https://adc.family/wp-content/uploads/2024/12/Ugly-Sweater-Contest-Graphic-1.png
END:VEVENT
BEGIN:VEVENT
DTSTART;VALUE=DATE:20241225
DTEND;VALUE=DATE:20241226
DTSTAMP:20260421T170406
CREATED:20240930T140952Z
LAST-MODIFIED:20241119T185906Z
UID:514-1735084800-1735171199@adc.family
SUMMARY:Christmas Day - ADC Closed
DESCRIPTION:Our company will be closed on December 25th to celebrate Christmas Day with family and friends.
URL:https://adc.family/calendar/christmas-adc-closed/
CATEGORIES:Seasonal Event
ATTACH;FMTTYPE=image/png:https://adc.family/wp-content/uploads/2024/09/Christmas-Graphic.png
END:VEVENT
BEGIN:VEVENT
DTSTART;VALUE=DATE:20241209
DTEND;VALUE=DATE:20241210
DTSTAMP:20260421T170406
CREATED:20241209T155259Z
LAST-MODIFIED:20241209T155401Z
UID:1206-1733702400-1733788799@adc.family
SUMMARY:Ugly Holiday Sweater Contest Starts!
DESCRIPTION:Ugly Holiday Sweater Contest: Dec 9–27\nGet ready to deck the halls with the ugliest\, wackiest\, and most wonderful holiday sweaters around! Whether you’re celebrating Christmas\, Hanukkah\, Kwanzaa\, or just love the festive spirit\, we want to see your most outrageous designs! \nHow to Enter:\n🎄 Snap a photo of yourself in your wildest holiday sweater.\n🎄 Submit your photo by December 27 to enter the contest. \nPrizes:\n🎁 The top 3 ugliest sweaters in each category will win: \n\n1st Place: 1000 Nectar points\n2nd Place: 500 Nectar points\n3rd Place: 250 Nectar points\n\nLet’s spread some holiday cheer with flair and fun—let the ugly sweater competition begin! We can’t wait to see your festive creations! \nUgly Holiday Sweater Submission Form: 
URL:https://adc.family/calendar/ugly-sweater-contest-starts/
CATEGORIES:Color Wars Points Challenge,Seasonal Event
ATTACH;FMTTYPE=image/png:https://adc.family/wp-content/uploads/2024/12/Ugly-Sweater-Contest-Graphic-1.png
END:VEVENT
BEGIN:VEVENT
DTSTART;VALUE=DATE:20241209
DTEND;VALUE=DATE:20241210
DTSTAMP:20260421T170406
CREATED:20240930T135521Z
LAST-MODIFIED:20241209T154929Z
UID:500-1733702400-1733788799@adc.family
SUMMARY:Holiday Decorating Contest Starts!
DESCRIPTION:Get into the holiday spirit and show off your festive flair in our Holiday Decor Contest! Whether you’re decking out your home inside or outside\, we’re looking for your most creative\, joyful designs. \nSubmit your entries by December 27th to be eligible for prizes. \nThis year\, we have two exciting categories: \n🎄 Inside Decor Submission Form\n \n❄️ Outside Decor Submission Form
URL:https://adc.family/calendar/holiday-decorating-contest-starts/
CATEGORIES:Seasonal Event
ATTACH;FMTTYPE=image/jpeg:https://adc.family/wp-content/uploads/2024/12/Holiday-Decor-Graphic-Final.jpg
END:VEVENT
BEGIN:VEVENT
DTSTART;VALUE=DATE:20241128
DTEND;VALUE=DATE:20241129
DTSTAMP:20260421T170406
CREATED:20240930T134349Z
LAST-MODIFIED:20241119T172938Z
UID:489-1732752000-1732838399@adc.family
SUMMARY:Thanksgiving - ADC Closed
DESCRIPTION:Our company will be closed for Thanksgiving on November 28th\, with an additional day off on Friday\, November 29\, to celebrate the holiday with family and friends!
URL:https://adc.family/calendar/thanksgiving-adc-closed/
CATEGORIES:Seasonal Event
ATTACH;FMTTYPE=image/png:https://adc.family/wp-content/uploads/2024/09/Thanksgiving-Graphic.png
END:VEVENT
BEGIN:VEVENT
DTSTART;VALUE=DATE:20241101
DTEND;VALUE=DATE:20241102
DTSTAMP:20260421T170406
CREATED:20240930T124106Z
LAST-MODIFIED:20241030T173756Z
UID:467-1730419200-1730505599@adc.family
SUMMARY:Halloween Costume Contest Submissions Due
DESCRIPTION:Halloween Costume Contest 2024\nDon’t forget to submit your Halloween costume photos by the end of the day! \nSubmit Individual Costumes Here:\n \nSubmit Group Costumes Here: 
URL:https://adc.family/calendar/halloween-costume-contest-submissions-due/
CATEGORIES:Seasonal Event
ATTACH;FMTTYPE=image/png:https://adc.family/wp-content/uploads/2024/10/Halloween-Costume-Contest-Graphic-background.png
END:VEVENT
BEGIN:VEVENT
DTSTART;VALUE=DATE:20241031
DTEND;VALUE=DATE:20241101
DTSTAMP:20260421T170406
CREATED:20240921T004503Z
LAST-MODIFIED:20241025T181039Z
UID:129-1730332800-1730419199@adc.family
SUMMARY:Pumpkin Contest Submissions Due
DESCRIPTION:Pumpkin Carving Contest 2024\n\n\n\nEvery year we welcome all ADC employees (and their families!) to submit their amazing pumpkin carvings. Get to carving and then get to sharing! Share your pumpkins here until October 31st and then come back and vote for your favorites during the first week of November! \n\n\n\nTop 3 pumpkin submissions win 1000\, 500 and 250 Nectar points! \n\nSubmit Pumpkin Carving Photos Here
URL:https://adc.family/calendar/pumpkin-contest-submissions-due/
CATEGORIES:Seasonal Event
ATTACH;FMTTYPE=image/png:https://adc.family/wp-content/uploads/2024/09/Pumpkin-Contest-Graphic-3.png
END:VEVENT
BEGIN:VEVENT
DTSTART;VALUE=DATE:20241030
DTEND;VALUE=DATE:20241031
DTSTAMP:20260421T170406
CREATED:20240930T123815Z
LAST-MODIFIED:20241030T173822Z
UID:464-1730246400-1730332799@adc.family
SUMMARY:Halloween Costume Contest Starts
DESCRIPTION:Halloween Costume Contest 2024\nShow off your spooktacular outfits starting October 28th until October 31st! \nSubmit Individual Costumes Here:\n \nSubmit Group Costumes Here: 
URL:https://adc.family/calendar/halloween-costume-contest-starts/
CATEGORIES:Seasonal Event
ATTACH;FMTTYPE=image/png:https://adc.family/wp-content/uploads/2024/10/Halloween-Costume-Contest-Graphic-background.png
END:VEVENT
BEGIN:VEVENT
DTSTART;VALUE=DATE:20241021
DTEND;VALUE=DATE:20241022
DTSTAMP:20260421T170406
CREATED:20240926T170327Z
LAST-MODIFIED:20241008T161655Z
UID:440-1729468800-1729555199@adc.family
SUMMARY:Pumpkin Carving Contest Begins
DESCRIPTION:The Pumpkin Carving Contest will accept submissions starting today through October 31st! \nTop 3 pumpkin submissions win 1000\, 500 and 250 Nectar points!
URL:https://adc.family/calendar/pumpkin-carving-contest-begins/
CATEGORIES:Seasonal Event
ATTACH;FMTTYPE=image/png:https://adc.family/wp-content/uploads/2024/09/Pumpkin-Contest-Graphic-3.png
END:VEVENT
END:VCALENDAR