BEGIN:VCALENDAR
VERSION:2.0
PRODID:-//ADC.Family - ECPv6.15.20//NONSGML v1.0//EN
CALSCALE:GREGORIAN
METHOD:PUBLISH
X-WR-CALNAME:ADC.Family
X-ORIGINAL-URL:https://adc.family
X-WR-CALDESC:Events for ADC.Family
REFRESH-INTERVAL;VALUE=DURATION:PT1H
X-Robots-Tag:noindex
X-PUBLISHED-TTL:PT1H
BEGIN:VTIMEZONE
TZID:UTC
BEGIN:STANDARD
TZOFFSETFROM:+0000
TZOFFSETTO:+0000
TZNAME:UTC
DTSTART:20240101T000000
END:STANDARD
END:VTIMEZONE
BEGIN:VEVENT
DTSTART;VALUE=DATE:20251201
DTEND;VALUE=DATE:20251202
DTSTAMP:20260422T222921
CREATED:20250930T134742Z
LAST-MODIFIED:20251022T102034Z
UID:3252-1764547200-1764633599@adc.family
SUMMARY:🎄 Holiday Decor Contest Starts 🎄
DESCRIPTION:🎄 Holiday Decor Contest 🎄\nIt’s time to light up the season! Whether you’re hanging lights outdoors\, decorating your tree\, or turning your space into a holiday masterpiece—we want to see your festive creativity in full display. \nAll ADC Team members are invited to share photos of their holiday décor—inside\, outside\, or both! \n🏠🎁 Spread joy\, showcase your holiday spirit\, and inspire your teammates with your dazzling designs. \nSubmit Holiday Decor Submissions Here
URL:https://adc.family/calendar/%f0%9f%8e%84-holiday-decor-contest-starts-%f0%9f%8e%84/
CATEGORIES:ADC Activities,ADC Holidays,Seasonal Event
ATTACH;FMTTYPE=image/jpeg:https://adc.family/wp-content/uploads/2025/09/Holiday-Decor-Graphic-2025.jpg
END:VEVENT
BEGIN:VEVENT
DTSTART;VALUE=DATE:20251201
DTEND;VALUE=DATE:20251206
DTSTAMP:20260422T222921
CREATED:20251028T095656Z
LAST-MODIFIED:20251028T095656Z
UID:3398-1764547200-1764979199@adc.family
SUMMARY:🍰 Weekly Cookbook Dish Out: Desserts
DESCRIPTION:Get ready to 🍳 cook\, share\, and taste your way through our ADC.Family Weekly Cookbook Dish Out — where each week we spotlight a new category from our company cookbook! \nThis week\, it’s all about 🍪 Desserts — the grand finale of every great meal! From cakes and cookies to pies and puddings\, share your favorite sweet treat that always hits the spot\, and get inspired by your fellow ADC team members’ 👩‍🍳 mouthwatering creations. \nLet’s fill our cookbook with decadent\, crowd-pleasing desserts that make every occasion a little sweeter! ❤️ \n👉 Visit the ADC.Family Cookbook to explore recipes\, add your own\, and see what’s cooking this week! 📖✨
URL:https://adc.family/calendar/%f0%9f%8d%b0-weekly-cookbook-dish-out-desserts/
CATEGORIES:ADC Cookbook,ADC Holidays,Seasonal Event
ATTACH;FMTTYPE=image/png:https://adc.family/wp-content/uploads/2025/10/Desserts.png
END:VEVENT
BEGIN:VEVENT
DTSTART;VALUE=DATE:20251208
DTEND;VALUE=DATE:20251213
DTSTAMP:20260422T222921
CREATED:20251028T100456Z
LAST-MODIFIED:20251028T100456Z
UID:3401-1765152000-1765583999@adc.family
SUMMARY:🎄 Weekly Cookbook Dish Out: ADC Cookie Swap
DESCRIPTION:Get ready to 🍳 bake\, share\, and taste your way through our ADC.Family Weekly Cookbook Dish Out — where each week we spotlight a new category from our company cookbook! \nThis week\, it’s all about 🍪 Cookies! Celebrate the season with our ADC Cookie Swap — from classic sugar cookies to family favorites passed down through generations. Share your most-loved cookie recipe\, and get inspired by your fellow ADC team members’ 👩‍🍳 festive creations. \nLet’s fill our cookbook with sweet traditions that bring warmth and holiday cheer to every kitchen! ❤️ \n👉 Visit the ADC.Family Cookbook to explore recipes\, add your own\, and see what’s baking this week! 📖✨
URL:https://adc.family/calendar/%f0%9f%8e%84-weekly-cookbook-dish-out-adc-cookie-swap/
CATEGORIES:ADC Cookbook,ADC Holidays,Seasonal Event
ATTACH;FMTTYPE=image/png:https://adc.family/wp-content/uploads/2025/10/Cookie-Swap.png
END:VEVENT
BEGIN:VEVENT
DTSTART;VALUE=DATE:20251215
DTEND;VALUE=DATE:20251220
DTSTAMP:20260422T222921
CREATED:20251028T101739Z
LAST-MODIFIED:20251028T101739Z
UID:3404-1765756800-1766188799@adc.family
SUMMARY:🌍 Weekly Cookbook Dish Out: Cultural Dishes
DESCRIPTION:Get ready to 🍳 cook\, share\, and taste your way through our ADC.Family Weekly Cookbook Dish Out — where each week we spotlight a new category from our company cookbook! \nThis week\, we’re celebrating 🌎 Cultural Dishes — the recipes that bring our family traditions and global flavors to life. Whether it’s an Italian Feast of the Seven Fishes\, homemade tamales\, flavorful curries\, or cherished recipes passed down through generations\, share a dish that represents your culture or a special family story. \nLet’s fill our cookbook with delicious traditions that connect us through food\, flavor\, and family. ❤️ \n👉 Visit the ADC.Family Cookbook to explore recipes\, add your own\, and see what’s cooking around the world this week! 📖✨
URL:https://adc.family/calendar/%f0%9f%8c%8d-weekly-cookbook-dish-out-cultural-dishes/
CATEGORIES:ADC Cookbook,ADC Holidays,Seasonal Event
ATTACH;FMTTYPE=image/png:https://adc.family/wp-content/uploads/2025/10/Feast-of-the-Seven-Fishes.png
END:VEVENT
BEGIN:VEVENT
DTSTART;VALUE=DATE:20251225
DTEND;VALUE=DATE:20251226
DTSTAMP:20260422T222921
CREATED:20250909T014010Z
LAST-MODIFIED:20250930T022058Z
UID:3169-1766620800-1766707199@adc.family
SUMMARY:🎄 Christmas Holiday 🎄
DESCRIPTION:Office Closure for Christmas Holiday \nIn celebration of the Christmas holiday\, The AccountingDepartment.com offices will be closed on Christmas Day.  \nWe encourage our team members to take this time to relax\, recharge\, and enjoy meaningful moments with family and loved ones.
URL:https://adc.family/calendar/christmas-holiday/
CATEGORIES:ADC Holidays,Seasonal Event
ATTACH;FMTTYPE=image/png:https://adc.family/wp-content/uploads/2024/09/Screenshot-2024-09-27-at-10.25.31 AM.png
END:VEVENT
BEGIN:VEVENT
DTSTART;VALUE=DATE:20260107
DTEND;VALUE=DATE:20260108
DTSTAMP:20260422T222921
CREATED:20250930T134903Z
LAST-MODIFIED:20251022T102204Z
UID:3254-1767744000-1767830399@adc.family
SUMMARY:🎄 Holiday Decor Contest Ends 🎄
DESCRIPTION:🎄 Holiday Decor Contest 🎄\nIt’s time to light up the season! Whether you’re hanging lights outdoors\, decorating your tree\, or turning your space into a holiday masterpiece—we want to see your festive creativity in full display. \nAll ADC Team members are invited to share photos of their holiday décor—inside\, outside\, or both! \n🏠🎁 Spread joy\, showcase your holiday spirit\, and inspire your teammates with your dazzling designs. \nSubmit Holiday Decor Submissions Here
URL:https://adc.family/calendar/%f0%9f%8e%84-holiday-decor-contest-ends-%f0%9f%8e%84/
CATEGORIES:ADC Activities,ADC Holidays,Seasonal Event
ATTACH;FMTTYPE=image/jpeg:https://adc.family/wp-content/uploads/2025/09/Holiday-Decor-Graphic-2025.jpg
END:VEVENT
BEGIN:VEVENT
DTSTART;VALUE=DATE:20260315
DTEND;VALUE=DATE:20260316
DTSTAMP:20260422T222921
CREATED:20260226T164148Z
LAST-MODIFIED:20260226T164148Z
UID:3584-1773532800-1773619199@adc.family
SUMMARY:🏀 ADC March Madness: Selection Sunday 🏀
DESCRIPTION:
URL:https://adc.family/calendar/%f0%9f%8f%80-adc-march-madness-selection-sunday-%f0%9f%8f%80/
CATEGORIES:ADC Activities,Seasonal Event
ATTACH;FMTTYPE=image/png:https://adc.family/wp-content/uploads/2025/04/March-Madness-Graphic-2.png
END:VEVENT
BEGIN:VEVENT
DTSTART;VALUE=DATE:20260317
DTEND;VALUE=DATE:20260318
DTSTAMP:20260422T222921
CREATED:20260226T164309Z
LAST-MODIFIED:20260226T164309Z
UID:3586-1773705600-1773791999@adc.family
SUMMARY:🏀 ADC March Madness: First Four Begins 🏀
DESCRIPTION:
URL:https://adc.family/calendar/%f0%9f%8f%80-adc-march-madness-first-four-begins-%f0%9f%8f%80/
CATEGORIES:ADC Activities,Seasonal Event
ATTACH;FMTTYPE=image/png:https://adc.family/wp-content/uploads/2025/04/March-Madness-Graphic-2.png
END:VEVENT
BEGIN:VEVENT
DTSTART;VALUE=DATE:20260319
DTEND;VALUE=DATE:20260320
DTSTAMP:20260422T222921
CREATED:20260226T164636Z
LAST-MODIFIED:20260226T164636Z
UID:3588-1773878400-1773964799@adc.family
SUMMARY:🏀 ADC March Madness: 1st & 2nd Rounds Begin 🏀
DESCRIPTION:
URL:https://adc.family/calendar/%f0%9f%8f%80-adc-march-madness-1st-2nd-rounds-begin-%f0%9f%8f%80/
CATEGORIES:ADC Activities,Seasonal Event
ATTACH;FMTTYPE=image/png:https://adc.family/wp-content/uploads/2025/04/March-Madness-Graphic-2.png
END:VEVENT
BEGIN:VEVENT
DTSTART;VALUE=DATE:20260326
DTEND;VALUE=DATE:20260327
DTSTAMP:20260422T222921
CREATED:20260226T164748Z
LAST-MODIFIED:20260226T165009Z
UID:3590-1774483200-1774569599@adc.family
SUMMARY:🏀 ADC March Madness: Sweet 16 & Elite 8 Begins 🏀
DESCRIPTION:
URL:https://adc.family/calendar/%f0%9f%8f%80-adc-march-madness-sweet-16-elite-eight-begins-%f0%9f%8f%80/
CATEGORIES:ADC Activities,Seasonal Event
ATTACH;FMTTYPE=image/png:https://adc.family/wp-content/uploads/2025/04/March-Madness-Graphic-2.png
END:VEVENT
BEGIN:VEVENT
DTSTART;VALUE=DATE:20260404
DTEND;VALUE=DATE:20260405
DTSTAMP:20260422T222921
CREATED:20260226T164933Z
LAST-MODIFIED:20260226T164933Z
UID:3592-1775260800-1775347199@adc.family
SUMMARY:🏀 ADC March Madness: Final Four Begins 🏀
DESCRIPTION:
URL:https://adc.family/calendar/%f0%9f%8f%80-adc-march-madness-final-four-begins-%f0%9f%8f%80/
CATEGORIES:ADC Activities,Seasonal Event
ATTACH;FMTTYPE=image/png:https://adc.family/wp-content/uploads/2025/04/March-Madness-Graphic-2.png
END:VEVENT
END:VCALENDAR