BEGIN:VCALENDAR
VERSION:2.0
PRODID:-//ADC.Family - ECPv6.15.20//NONSGML v1.0//EN
CALSCALE:GREGORIAN
METHOD:PUBLISH
X-ORIGINAL-URL:https://adc.family
X-WR-CALDESC:Events for ADC.Family
REFRESH-INTERVAL;VALUE=DURATION:PT1H
X-Robots-Tag:noindex
X-PUBLISHED-TTL:PT1H
BEGIN:VTIMEZONE
TZID:UTC
BEGIN:STANDARD
TZOFFSETFROM:+0000
TZOFFSETTO:+0000
TZNAME:UTC
DTSTART:20240101T000000
END:STANDARD
END:VTIMEZONE
BEGIN:VEVENT
DTSTART;VALUE=DATE:20251031
DTEND;VALUE=DATE:20251101
DTSTAMP:20260421T234438
CREATED:20250909T142545Z
LAST-MODIFIED:20250909T142545Z
UID:3175-1761868800-1761955199@adc.family
SUMMARY:🎃 Happy Halloween! 🎃
DESCRIPTION:
URL:https://adc.family/calendar/%f0%9f%8e%83-happy-halloween-%f0%9f%8e%83/
CATEGORIES:Seasonal Event
ATTACH;FMTTYPE=image/jpeg:https://adc.family/wp-content/uploads/2024/09/qtq80-Ge4CUf.jpeg
END:VEVENT
END:VCALENDAR