BEGIN:VCALENDAR
VERSION:2.0
PRODID:-//ADC.Family - ECPv6.15.20//NONSGML v1.0//EN
CALSCALE:GREGORIAN
METHOD:PUBLISH
X-ORIGINAL-URL:https://adc.family
X-WR-CALDESC:Events for ADC.Family
REFRESH-INTERVAL;VALUE=DURATION:PT1H
X-Robots-Tag:noindex
X-PUBLISHED-TTL:PT1H
BEGIN:VTIMEZONE
TZID:UTC
BEGIN:STANDARD
TZOFFSETFROM:+0000
TZOFFSETTO:+0000
TZNAME:UTC
DTSTART:20240101T000000
END:STANDARD
END:VTIMEZONE
BEGIN:VEVENT
DTSTART;VALUE=DATE:20251103
DTEND;VALUE=DATE:20251108
DTSTAMP:20260421T214854
CREATED:20251028T013638Z
LAST-MODIFIED:20251028T013638Z
UID:3392-1762128000-1762559999@adc.family
SUMMARY:🧀 Weekly Cookbook Dish Out: Appetizers
DESCRIPTION:Get ready to 🍳 cook\, share\, and taste your way through our ADC.Family Weekly Cookbook Dish Out — where each week we spotlight a new category from our company cookbook! \nThis week\, it’s all about 🥟 Appetizers — those irresistible bites that kick off any meal just right. Share your favorite starter\, dip\, or finger food recipe that always gets the crowd talking\, and get inspired by your fellow ADC team members’ 👩‍🍳 tasty creations. \nLet’s fill our cookbook with fun\, flavorful dishes that bring everyone together from the very first bite! ❤️ \n👉 Visit the ADC.Family Cookbook to explore recipes\, add your own\, and see what’s cooking this week! 📖✨
URL:https://adc.family/calendar/%f0%9f%a7%80-weekly-cookbook-dish-out-appetizers/
CATEGORIES:ADC Cookbook,ADC Holidays,Seasonal Event
ATTACH;FMTTYPE=image/png:https://adc.family/wp-content/uploads/2025/10/Appetizers.png
END:VEVENT
BEGIN:VEVENT
DTSTART;VALUE=DATE:20251104
DTEND;VALUE=DATE:20251105
DTSTAMP:20260421T214854
CREATED:20250926T154932Z
LAST-MODIFIED:20251105T154452Z
UID:3226-1762214400-1762300799@adc.family
SUMMARY:🎃 Pumpkin Carving Contest 2025 Ends 🎃
DESCRIPTION:🎃 Pumpkin Carving Contest 2025 Ends 🎃\nIt’s that time of year again! We’re inviting all ADC team members — and your families — to show off your pumpkin carving skills! \n🧡 How to Participate:Carve your pumpkin\, snap a photo\, and share it right here by November 4th. \n🗳️ Voting:Come back in early November to vote for your favorites! \n🏆 Prizes & Points: \n🎃 10 Points for every submission \n🥇 150 Points for 1st Place \n🥈 125 Points for 2nd Place \n🥉 100 Points for 3rd Place \nGet creative\, get carving\, and let’s make this year’s contest the best one yet!
URL:https://adc.family/calendar/%f0%9f%8e%83-pumpkin-carving-contest-2025-ends-%f0%9f%8e%83/
CATEGORIES:ADC Activities,Seasonal Event
ATTACH;FMTTYPE=image/png:https://adc.family/wp-content/uploads/2025/08/Pumpkin-Contest-Graphic-3.png
END:VEVENT
BEGIN:VEVENT
DTSTART;VALUE=DATE:20251104
DTEND;VALUE=DATE:20251105
DTSTAMP:20260421T214854
CREATED:20250930T015936Z
LAST-MODIFIED:20251105T154521Z
UID:3240-1762214400-1762300799@adc.family
SUMMARY:🎃 Costume Contest 2025 Ends🎃
DESCRIPTION:🎃 Costume Contest 2025 Ends🎃\nWe’re excited to invite all ADC team members — and your families — to participate in this year’s spooktacular Costume Contest! Whether you’re going solo or dressing up as a group\, we want to see your most creative\, funny\, or frightful looks. \n🧡 How to Enter:Dress up in your best costume (individual (ADC team member) or group (ADC team member w/ family or friends) or both)\, snap a photo\, and share it right here by November 4th. \n🗳️ Voting:Come back in early November to vote for your favorite costumes in both the individual and group categories! \n🏆 Prizes & Points: \n👤 Individual Category🎃 10 Color Wars Points for every submission🥇 150 Color Wars Points for 1st Place🥈 125 Color Wars Points for 2nd Place🥉 100 Color Wars Points for 3rd Place \n👥 Group Category🎃 10 Color Wars Points per team member for every submission🥇 150 Color Wars Points for 1st Place🥈 125 Color Wars Points for 2nd Place🥉 100 Color Wars Points for 3rd Place \nGet creative\, get dressed up\, and let’s make this year’s costume contest the best one yet!
URL:https://adc.family/calendar/%f0%9f%8e%83-costume-contest-2025-ends%f0%9f%8e%83/
CATEGORIES:ADC Activities,Color Wars Points Challenge,Seasonal Event
ATTACH;FMTTYPE=image/png:https://adc.family/wp-content/uploads/2025/09/Halloween-Costume-Contest-Graphic-2025-1.png
END:VEVENT
BEGIN:VEVENT
DTSTART;VALUE=DATE:20251110
DTEND;VALUE=DATE:20251115
DTSTAMP:20260421T214854
CREATED:20251028T012907Z
LAST-MODIFIED:20251028T013710Z
UID:3388-1762732800-1763164799@adc.family
SUMMARY:🍽️ Weekly Cookbook Dish Out: Entrees
DESCRIPTION:Get ready to 🍳 cook\, share\, and taste your way through our ADC.Family Weekly Cookbook Dish Out — where each week we spotlight a new category from our company cookbook! \nThis week\, it’s all about 🍗 Entrees — the stars of the table. Share your go-to main dish recipe that always steals the show\, and get inspired by your fellow ADC team members’ 👩‍🍳 culinary creations. \nLet’s fill our cookbook with hearty\, crowd-pleasing favorites that bring everyone together! ❤️ \n👉 Visit the ADC.Family Cookbook to explore recipes\, add your own\, and see what’s cooking this week! 📖✨
URL:https://adc.family/calendar/%f0%9f%8d%bd%ef%b8%8f-weekly-cookbook-dish-out-entrees/
CATEGORIES:ADC Cookbook,ADC Holidays,Seasonal Event
ATTACH;FMTTYPE=image/png:https://adc.family/wp-content/uploads/2025/10/Turkey.png
END:VEVENT
BEGIN:VEVENT
DTSTART;VALUE=DATE:20251117
DTEND;VALUE=DATE:20251122
DTSTAMP:20260421T214854
CREATED:20251028T014215Z
LAST-MODIFIED:20251028T014256Z
UID:3395-1763337600-1763769599@adc.family
SUMMARY:🥗 Weekly Cookbook Dish Out: Side Dishes
DESCRIPTION:Get ready to 🍳cook\, share\, and taste your way through our ADC.Family Weekly Cookbook Dish Out — where each week we spotlight a new category from our company cookbook! \nThis week\, it’s all about 🥔 Side Dishes — the perfect partners to any main course! From creamy casseroles to fresh salads and everything in between\, share your favorite side that always completes the meal\, and get inspired by your fellow ADC team members’ 👩‍🍳 delicious creations. \nLet’s fill our cookbook with tasty\, crowd-pleasing sides that make every plate shine! ❤️ \n👉 Visit the ADC.Family Cookbook to explore recipes\, add your own\, and see what’s cooking this week! 📖✨
URL:https://adc.family/calendar/%f0%9f%a5%97-weekly-cookbook-dish-out-side-dishes/
CATEGORIES:ADC Cookbook,ADC Holidays,Seasonal Event
ATTACH;FMTTYPE=image/png:https://adc.family/wp-content/uploads/2025/10/Side-Dishes.png
END:VEVENT
BEGIN:VEVENT
DTSTART;VALUE=DATE:20251127
DTEND;VALUE=DATE:20251129
DTSTAMP:20260421T214854
CREATED:20250908T162429Z
LAST-MODIFIED:20251028T014323Z
UID:3165-1764201600-1764374399@adc.family
SUMMARY:🦃 Thanksgiving Holiday 🦃
DESCRIPTION:Office Closure for Thanksgiving Holiday\nIn celebration of Thanksgiving\, TheAccountingDepartment.com offices will be closed on Thanksgiving Day and the following Friday.\nWe encourage our team members to take this time to relax\, recharge\, and enjoy meaningful moments with family and friends.
URL:https://adc.family/calendar/thanksgiving-holiday/
CATEGORIES:ADC Holidays,Seasonal Event
ATTACH;FMTTYPE=image/jpeg:https://adc.family/wp-content/uploads/2024/09/qtq80-3bbe35.jpeg
END:VEVENT
END:VCALENDAR