BEGIN:VCALENDAR
VERSION:2.0
PRODID:-//ADC.Family - ECPv6.15.20//NONSGML v1.0//EN
CALSCALE:GREGORIAN
METHOD:PUBLISH
X-ORIGINAL-URL:https://adc.family
X-WR-CALDESC:Events for ADC.Family
REFRESH-INTERVAL;VALUE=DURATION:PT1H
X-Robots-Tag:noindex
X-PUBLISHED-TTL:PT1H
BEGIN:VTIMEZONE
TZID:UTC
BEGIN:STANDARD
TZOFFSETFROM:+0000
TZOFFSETTO:+0000
TZNAME:UTC
DTSTART:20240101T000000
END:STANDARD
END:VTIMEZONE
BEGIN:VEVENT
DTSTART;VALUE=DATE:20251001
DTEND;VALUE=DATE:20251002
DTSTAMP:20260421T232142
CREATED:20250930T015113Z
LAST-MODIFIED:20251105T154621Z
UID:3230-1759276800-1759363199@adc.family
SUMMARY:🎃 Costume Contest 2025 Begins 🎃
DESCRIPTION:🎃 Costume Contest 2025 Begins🎃\nWe’re excited to invite all ADC team members to participate in this year’s spooktacular Costume Contest! Whether you’re going solo or dressing up as a group\, we want to see your most creative\, funny\, or frightful looks. \n🧡 How to Enter:Dress up in your best costume (individual (ADC team member) or group (ADC team member w/ family or friends) or both)\, snap a photo\, and share it right here by November 4th. \n🗳️ Voting:Come back in early November to vote for your favorite costumes in both the individual and group categories! \n🏆 Prizes & Points: \n👤 Individual Category🎃 10 Color Wars Points for every submission🥇 150 Color Wars Points for 1st Place🥈 125 Color Wars Points for 2nd Place🥉 100 Color Wars Points for 3rd Place \n👥 Group Category🎃 10 Color Wars Points per team member for every submission🥇 150 Color Wars Points for 1st Place🥈 125 Color Wars Points for 2nd Place🥉 100 Color Wars Points for 3rd Place
URL:https://adc.family/calendar/%f0%9f%8e%83-costume-contest-2025-begins%f0%9f%8e%83/
CATEGORIES:ADC Activities,Color Wars Points Challenge,Seasonal Event
ATTACH;FMTTYPE=image/png:https://adc.family/wp-content/uploads/2025/09/Halloween-Costume-Contest-Graphic-2025-1.png
END:VEVENT
BEGIN:VEVENT
DTSTART;VALUE=DATE:20251001
DTEND;VALUE=DATE:20251002
DTSTAMP:20260421T232142
CREATED:20250926T154523Z
LAST-MODIFIED:20251105T154647Z
UID:3224-1759276800-1759363199@adc.family
SUMMARY:🎃 Pumpkin Carving Contest 2025 Begins 🎃
DESCRIPTION:🎃 Pumpkin Carving Contest 2025 Begins🎃\nIt’s that time of year again! We’re inviting all ADC team members — and your families — to show off your pumpkin carving skills! \n🧡 How to Participate:Carve your pumpkin\, snap a photo\, and share it right here by November 4th. \n🗳️ Voting:Come back in early November to vote for your favorites! \n🏆 Prizes & Points: \n🎃 10 Points for every submission \n🥇 150 Points for 1st Place \n🥈 125 Points for 2nd Place \n🥉 100 Points for 3rd Place \nGet creative\, get carving\, and let’s make this year’s contest the best one yet!
URL:https://adc.family/calendar/%f0%9f%8e%83-pumpkin-carving-contest-2025-%f0%9f%8e%83/
CATEGORIES:ADC Activities,Seasonal Event
ATTACH;FMTTYPE=image/png:https://adc.family/wp-content/uploads/2024/09/Pumpkin-Contest-Graphic-3.png
END:VEVENT
BEGIN:VEVENT
DTSTART;VALUE=DATE:20251031
DTEND;VALUE=DATE:20251101
DTSTAMP:20260421T232142
CREATED:20250909T142545Z
LAST-MODIFIED:20250909T142545Z
UID:3175-1761868800-1761955199@adc.family
SUMMARY:🎃 Happy Halloween! 🎃
DESCRIPTION:
URL:https://adc.family/calendar/%f0%9f%8e%83-happy-halloween-%f0%9f%8e%83/
CATEGORIES:Seasonal Event
ATTACH;FMTTYPE=image/jpeg:https://adc.family/wp-content/uploads/2024/09/qtq80-Ge4CUf.jpeg
END:VEVENT
END:VCALENDAR