BEGIN:VCALENDAR
VERSION:2.0
PRODID:-//ADC.Family - ECPv6.15.20//NONSGML v1.0//EN
CALSCALE:GREGORIAN
METHOD:PUBLISH
X-WR-CALNAME:ADC.Family
X-ORIGINAL-URL:https://adc.family
X-WR-CALDESC:Events for ADC.Family
REFRESH-INTERVAL;VALUE=DURATION:PT1H
X-Robots-Tag:noindex
X-PUBLISHED-TTL:PT1H
BEGIN:VTIMEZONE
TZID:UTC
BEGIN:STANDARD
TZOFFSETFROM:+0000
TZOFFSETTO:+0000
TZNAME:UTC
DTSTART:20230101T000000
END:STANDARD
END:VTIMEZONE
BEGIN:VEVENT
DTSTART;VALUE=DATE:20241021
DTEND;VALUE=DATE:20241022
DTSTAMP:20260422T222348
CREATED:20240926T170327Z
LAST-MODIFIED:20241008T161655Z
UID:440-1729468800-1729555199@adc.family
SUMMARY:Pumpkin Carving Contest Begins
DESCRIPTION:The Pumpkin Carving Contest will accept submissions starting today through October 31st! \nTop 3 pumpkin submissions win 1000\, 500 and 250 Nectar points!
URL:https://adc.family/calendar/pumpkin-carving-contest-begins/
CATEGORIES:Seasonal Event
ATTACH;FMTTYPE=image/png:https://adc.family/wp-content/uploads/2024/09/Pumpkin-Contest-Graphic-3.png
END:VEVENT
BEGIN:VEVENT
DTSTART;VALUE=DATE:20241030
DTEND;VALUE=DATE:20241031
DTSTAMP:20260422T222348
CREATED:20240930T123815Z
LAST-MODIFIED:20241030T173822Z
UID:464-1730246400-1730332799@adc.family
SUMMARY:Halloween Costume Contest Starts
DESCRIPTION:Halloween Costume Contest 2024\nShow off your spooktacular outfits starting October 28th until October 31st! \nSubmit Individual Costumes Here:\n \nSubmit Group Costumes Here: 
URL:https://adc.family/calendar/halloween-costume-contest-starts/
CATEGORIES:Seasonal Event
ATTACH;FMTTYPE=image/png:https://adc.family/wp-content/uploads/2024/10/Halloween-Costume-Contest-Graphic-background.png
END:VEVENT
BEGIN:VEVENT
DTSTART;VALUE=DATE:20241031
DTEND;VALUE=DATE:20241101
DTSTAMP:20260422T222348
CREATED:20240921T004503Z
LAST-MODIFIED:20241025T181039Z
UID:129-1730332800-1730419199@adc.family
SUMMARY:Pumpkin Contest Submissions Due
DESCRIPTION:Pumpkin Carving Contest 2024\n\n\n\nEvery year we welcome all ADC employees (and their families!) to submit their amazing pumpkin carvings. Get to carving and then get to sharing! Share your pumpkins here until October 31st and then come back and vote for your favorites during the first week of November! \n\n\n\nTop 3 pumpkin submissions win 1000\, 500 and 250 Nectar points! \n\nSubmit Pumpkin Carving Photos Here
URL:https://adc.family/calendar/pumpkin-contest-submissions-due/
CATEGORIES:Seasonal Event
ATTACH;FMTTYPE=image/png:https://adc.family/wp-content/uploads/2024/09/Pumpkin-Contest-Graphic-3.png
END:VEVENT
END:VCALENDAR