BEGIN:VCALENDAR
VERSION:2.0
PRODID:-//ADC.Family - ECPv6.15.20//NONSGML v1.0//EN
CALSCALE:GREGORIAN
METHOD:PUBLISH
X-WR-CALNAME:ADC.Family
X-ORIGINAL-URL:https://adc.family
X-WR-CALDESC:Events for ADC.Family
REFRESH-INTERVAL;VALUE=DURATION:PT1H
X-Robots-Tag:noindex
X-PUBLISHED-TTL:PT1H
BEGIN:VTIMEZONE
TZID:UTC
BEGIN:STANDARD
TZOFFSETFROM:+0000
TZOFFSETTO:+0000
TZNAME:UTC
DTSTART:20250101T000000
END:STANDARD
END:VTIMEZONE
BEGIN:VEVENT
DTSTART;VALUE=DATE:20260331
DTEND;VALUE=DATE:20260401
DTSTAMP:20260421T144809
CREATED:20260226T105959Z
LAST-MODIFIED:20260226T105959Z
UID:3582-1774915200-1775001599@adc.family
SUMMARY:🍽️ Lunch and Learn 📝
DESCRIPTION:Join us for a Lunch & Learn with Kim Luque on Tuesday\, March 31 at 12:00 PM ET! 🥪📚✨
URL:https://adc.family/calendar/%f0%9f%8d%bd%ef%b8%8f-lunch-and-learn-%f0%9f%93%9d/
CATEGORIES:ADC Activities,Lunch and Learns
ATTACH;FMTTYPE=image/png:https://adc.family/wp-content/uploads/2025/04/Lunch-and-Learn-Graphic.png
END:VEVENT
END:VCALENDAR