BEGIN:VCALENDAR
VERSION:2.0
PRODID:-//ADC.Family - ECPv6.15.20//NONSGML v1.0//EN
CALSCALE:GREGORIAN
METHOD:PUBLISH
X-WR-CALNAME:ADC.Family
X-ORIGINAL-URL:https://adc.family
X-WR-CALDESC:Events for ADC.Family
REFRESH-INTERVAL;VALUE=DURATION:PT1H
X-Robots-Tag:noindex
X-PUBLISHED-TTL:PT1H
BEGIN:VTIMEZONE
TZID:UTC
BEGIN:STANDARD
TZOFFSETFROM:+0000
TZOFFSETTO:+0000
TZNAME:UTC
DTSTART:20250101T000000
END:STANDARD
END:VTIMEZONE
BEGIN:VEVENT
DTSTART;VALUE=DATE:20260420
DTEND;VALUE=DATE:20260425
DTSTAMP:20260421T070120
CREATED:20260402T012815Z
LAST-MODIFIED:20260420T151243Z
UID:3632-1776643200-1777075199@adc.family
SUMMARY:🏆Color Wars 26: ADC Earth Day Challenge🏆
DESCRIPTION:🌎 ADC Earth Day Challenge!🌿\nCelebrate Earth Day (April 22) by sharing a photo of your piece of home—a place in your local community that reflects who you are.\n📸 Post in the Off-Topic Lounge\n🗓️ Monday\, April 20th – Friday\, April 24th\n✅ Use #ADCEarth + your team tag (ex: #TeamRed)\n💪 Add a quick note on why it matters to you!\n🏆 Each team member can submit one post\, and every post earns your team 10 points!\nLet’s connect through the places that shape us 🌎💙
URL:https://adc.family/calendar/%f0%9f%8f%86-color-wars-challenge-coming-soon-%f0%9f%8f%86-2/
CATEGORIES:ADC Activities,Color Wars Points Challenge
ATTACH;FMTTYPE=image/png:https://adc.family/wp-content/uploads/2026/04/CW26-Logo-two-words-drop-shadow.png
END:VEVENT
END:VCALENDAR