BEGIN:VCALENDAR
VERSION:2.0
PRODID:-//ADC.Family - ECPv6.15.20//NONSGML v1.0//EN
CALSCALE:GREGORIAN
METHOD:PUBLISH
X-WR-CALNAME:ADC.Family
X-ORIGINAL-URL:https://adc.family
X-WR-CALDESC:Events for ADC.Family
REFRESH-INTERVAL;VALUE=DURATION:PT1H
X-Robots-Tag:noindex
X-PUBLISHED-TTL:PT1H
BEGIN:VTIMEZONE
TZID:UTC
BEGIN:STANDARD
TZOFFSETFROM:+0000
TZOFFSETTO:+0000
TZNAME:UTC
DTSTART:20250101T000000
END:STANDARD
END:VTIMEZONE
BEGIN:VEVENT
DTSTART;VALUE=DATE:20260924
DTEND;VALUE=DATE:20260925
DTSTAMP:20260421T230144
CREATED:20260402T015440Z
LAST-MODIFIED:20260402T015440Z
UID:3650-1790208000-1790294399@adc.family
SUMMARY:📚 ADC Monthly Book Club Meeting 📚
DESCRIPTION:Join us for our Monthly ADC Book Club Meeting! \nMeeting on the last Thursday of each month from 7:00–8:00 PM ET in Kim Luque’s Zoom Room\, we come together to chat about our current book of the month\, explore a variety of genres\, and connect with fellow team members who enjoy reading. Whether you’re a longtime book lover or just looking to get back into reading\, everyone is welcome!\nCome share your thoughts\, discover new books\, and be part of a fun\, engaging community.\nFor more information on this month’s book and a list of past reads\, visit the ADC.Family Book Club Page.
URL:https://adc.family/calendar/%f0%9f%93%9a-adc-monthly-book-club-meeting-%f0%9f%93%9a-6/
CATEGORIES:ADC Activities,Color Wars Points Challenge
ATTACH;FMTTYPE=image/png:https://adc.family/wp-content/uploads/2025/04/ADC-Book-Club-Square.png
END:VEVENT
END:VCALENDAR