BEGIN:VCALENDAR
VERSION:2.0
PRODID:-//ADC.Family - ECPv6.15.20//NONSGML v1.0//EN
CALSCALE:GREGORIAN
METHOD:PUBLISH
X-ORIGINAL-URL:https://adc.family
X-WR-CALDESC:Events for ADC.Family
REFRESH-INTERVAL;VALUE=DURATION:PT1H
X-Robots-Tag:noindex
X-PUBLISHED-TTL:PT1H
BEGIN:VTIMEZONE
TZID:UTC
BEGIN:STANDARD
TZOFFSETFROM:+0000
TZOFFSETTO:+0000
TZNAME:UTC
DTSTART:20240101T000000
END:STANDARD
END:VTIMEZONE
BEGIN:VTIMEZONE
TZID:Pacific/Easter
BEGIN:STANDARD
TZOFFSETFROM:-0500
TZOFFSETTO:-0600
TZNAME:-06
DTSTART:20240407T030000
END:STANDARD
BEGIN:DAYLIGHT
TZOFFSETFROM:-0600
TZOFFSETTO:-0500
TZNAME:-05
DTSTART:20240908T040000
END:DAYLIGHT
BEGIN:STANDARD
TZOFFSETFROM:-0500
TZOFFSETTO:-0600
TZNAME:-06
DTSTART:20250406T030000
END:STANDARD
BEGIN:DAYLIGHT
TZOFFSETFROM:-0600
TZOFFSETTO:-0500
TZNAME:-05
DTSTART:20250907T040000
END:DAYLIGHT
BEGIN:STANDARD
TZOFFSETFROM:-0500
TZOFFSETTO:-0600
TZNAME:-06
DTSTART:20260405T030000
END:STANDARD
BEGIN:DAYLIGHT
TZOFFSETFROM:-0600
TZOFFSETTO:-0500
TZNAME:-05
DTSTART:20260906T040000
END:DAYLIGHT
END:VTIMEZONE
BEGIN:VEVENT
DTSTART;VALUE=DATE:20250401
DTEND;VALUE=DATE:20250402
DTSTAMP:20260422T041146
CREATED:20250401T022743Z
LAST-MODIFIED:20250401T145411Z
UID:2318-1743465600-1743551999@adc.family
SUMMARY:April Monthly Challenge Starts!
DESCRIPTION:ADC Cares Challenge – National Volunteer Month 2025  \nApril is National Volunteer Month\, and we’re excited to kick off the ADC Cares Challenge! This month\, we’re highlighting our ADC Cares Initiative at AccountingDepartment.com\, where we believe in the power of giving back. Through ADC Cares\, our team members can make a real impact in their communities by volunteering and supporting charitable causes. \nHow It Works: \n\n4 hours of Volunteer Paid Time Off (VPTO) every 6 months to volunteer for a cause you care about.\nChoose any non-profit organization and make a difference while representing ADC.\nTo learn more about how ADC Cares visit the OSCAR Post Here!\n\nFor the month of April\, we encourage everyone to submit a request for their ADC Cares hours. You can submit requests starting now through the end of 2025 to earn points towards the ADC Cares Challenge. \nDon’t have a set date and time for your volunteer work yet? No problem! Just submit your request and adjust it later once you’ve confirmed the specific details. \nBonus: ADC Cares Apparel!\nTo thank you for participating\, we’re offering exclusive ADC Cares Swag to wear while volunteering. Just submit your swag request below! Note: there’s a 4-week lead time\, so submit early to get your gear on time. \nLet’s earn points for our team and make a difference in our communities with the ADC Cares Challenge! \n﻿﻿
URL:https://adc.family/calendar/april-monthly-challenge-starts/
CATEGORIES:Color Wars Points Challenge
ATTACH;FMTTYPE=image/png:https://adc.family/wp-content/uploads/2024/09/Monthly-Challenge-Graphic.png
END:VEVENT
BEGIN:VEVENT
DTSTART;VALUE=DATE:20250408
DTEND;VALUE=DATE:20250409
DTSTAMP:20260422T041146
CREATED:20250401T023323Z
LAST-MODIFIED:20250401T023323Z
UID:2326-1744070400-1744156799@adc.family
SUMMARY:April Flash Challenge Starts!
DESCRIPTION:COMING SOON: Get ready for an exciting Flash Challenge on April 8th! Stay tuned for more details and prepare to bring your A-game!
URL:https://adc.family/calendar/april-flash-challenge-starts/
CATEGORIES:Color Wars Points Challenge
ATTACH;FMTTYPE=image/png:https://adc.family/wp-content/uploads/2024/09/Color-Wars-Flash-Challenge-Graphic.png
END:VEVENT
BEGIN:VEVENT
DTSTART;VALUE=DATE:20250410
DTEND;VALUE=DATE:20250411
DTSTAMP:20260422T041146
CREATED:20250401T023519Z
LAST-MODIFIED:20250401T023519Z
UID:2328-1744243200-1744329599@adc.family
SUMMARY:April Flash Challenge Ends!
DESCRIPTION:COMING SOON: Get ready for an exciting Flash Challenge on April 8th! Stay tuned for more details and prepare to bring your A-game!
URL:https://adc.family/calendar/april-flash-challenge-ends/
CATEGORIES:Color Wars Points Challenge
ATTACH;FMTTYPE=image/png:https://adc.family/wp-content/uploads/2024/09/Color-Wars-Flash-Challenge-Graphic.png
END:VEVENT
BEGIN:VEVENT
DTSTART;TZID=Pacific/Easter:20250417T200000
DTEND;TZID=Pacific/Easter:20250417T210000
DTSTAMP:20260422T041146
CREATED:20250401T024246Z
LAST-MODIFIED:20250407T170254Z
UID:2346-1744920000-1744923600@adc.family
SUMMARY:ADC BINGO Night – Featuring Guest Host Amy H.!
DESCRIPTION:Get ready\, folks! It’s time for ADC Bingo Night\, coming to you LIVE on April 17th\, 2025! 🎉 \nYour fabulous and fun host for the evening\, the one and only Amy H.\, will be leading you through an unforgettable night of bingo madness! 🏆 She’s the master of the game\, the queen of calling numbers\, and the bringer of all the excitement! 🎤 You won’t want to miss a single moment—get ready to mark those cards and feel the rush of the game as the numbers are called! 🖊️💥 \nWill you be the one to shout Bingo! and claim victory? 🥇 Will you rise above the competition and take home the ultimate prize? There’s only one way to find out… with a little luck\, a lot of focus\, and a touch of friendly competition! 🤞💪 Bring your friends\, your lucky charm\, and your competitive spirit! \nMark your calendars now! 📅 April 17th\, 2025 – it’s an evening packed with fun\, excitement\, and some serious bingo action with Amy H. at the helm! 🌟 Let’s make it a night to remember—because when the numbers drop\, you won’t want to miss your chance to win big! 🎉 \nRegister for Game Night Here:
URL:https://adc.family/calendar/adc-trivia-night-featuring-guest-host-amy-harold/
CATEGORIES:ADC Activities,Color Wars Points Challenge
ATTACH;FMTTYPE=image/png:https://adc.family/wp-content/uploads/2025/04/ADC-Family-Game-Night-Graphic-1.png
END:VEVENT
BEGIN:VEVENT
DTSTART;VALUE=DATE:20250430
DTEND;VALUE=DATE:20250501
DTSTAMP:20260422T041146
CREATED:20250401T022855Z
LAST-MODIFIED:20250401T145503Z
UID:2323-1745971200-1746057599@adc.family
SUMMARY:April Monthly Challenge Ends!
DESCRIPTION:ADC Cares Challenge – National Volunteer Month 2025 \nApril is National Volunteer Month\, and we’re excited to kick off the ADC Cares Challenge! This month\, we’re highlighting our ADC Cares Initiative at AccountingDepartment.com\, where we believe in the power of giving back. Through ADC Cares\, our team members can make a real impact in their communities by volunteering and supporting charitable causes. \nHow It Works: \n\n4 hours of Volunteer Paid Time Off (VPTO) every 6 months to volunteer for a cause you care about.\nChoose any non-profit organization and make a difference while representing ADC.\nTo learn more about how ADC Cares visit the OSCAR Post Here!\n\nFor the month of April\, we encourage everyone to submit a request for their ADC Cares hours. You can submit requests starting now through the end of 2025 to earn points towards the ADC Cares Challenge. \nDon’t have a set date and time for your volunteer work yet? No problem! Just submit your request and adjust it later once you’ve confirmed the specific details. \nBonus: ADC Cares Apparel!\nTo thank you for participating\, we’re offering exclusive ADC Cares Swag to wear while volunteering. Just submit your swag request below! Note: there’s a 4-week lead time\, so submit early to get your gear on time. \nLet’s earn points for our team and make a difference in our communities with the ADC Cares Challenge!
URL:https://adc.family/calendar/april-monthly-challenge-ends/
CATEGORIES:Color Wars Points Challenge
ATTACH;FMTTYPE=image/png:https://adc.family/wp-content/uploads/2024/09/Monthly-Challenge-Graphic.png
END:VEVENT
END:VCALENDAR