BEGIN:VCALENDAR
VERSION:2.0
PRODID:-//ADC.Family - ECPv6.15.20//NONSGML v1.0//EN
CALSCALE:GREGORIAN
METHOD:PUBLISH
X-ORIGINAL-URL:https://adc.family
X-WR-CALDESC:Events for ADC.Family
REFRESH-INTERVAL;VALUE=DURATION:PT1H
X-Robots-Tag:noindex
X-PUBLISHED-TTL:PT1H
BEGIN:VTIMEZONE
TZID:UTC
BEGIN:STANDARD
TZOFFSETFROM:+0000
TZOFFSETTO:+0000
TZNAME:UTC
DTSTART:20240101T000000
END:STANDARD
END:VTIMEZONE
BEGIN:VTIMEZONE
TZID:Pacific/Easter
BEGIN:STANDARD
TZOFFSETFROM:-0500
TZOFFSETTO:-0600
TZNAME:-06
DTSTART:20240407T030000
END:STANDARD
BEGIN:DAYLIGHT
TZOFFSETFROM:-0600
TZOFFSETTO:-0500
TZNAME:-05
DTSTART:20240908T040000
END:DAYLIGHT
BEGIN:STANDARD
TZOFFSETFROM:-0500
TZOFFSETTO:-0600
TZNAME:-06
DTSTART:20250406T030000
END:STANDARD
BEGIN:DAYLIGHT
TZOFFSETFROM:-0600
TZOFFSETTO:-0500
TZNAME:-05
DTSTART:20250907T040000
END:DAYLIGHT
BEGIN:STANDARD
TZOFFSETFROM:-0500
TZOFFSETTO:-0600
TZNAME:-06
DTSTART:20260405T030000
END:STANDARD
BEGIN:DAYLIGHT
TZOFFSETFROM:-0600
TZOFFSETTO:-0500
TZNAME:-05
DTSTART:20260906T040000
END:DAYLIGHT
END:VTIMEZONE
BEGIN:VEVENT
DTSTART;VALUE=DATE:20250301
DTEND;VALUE=DATE:20250302
DTSTAMP:20260422T060922
CREATED:20250228T165007Z
LAST-MODIFIED:20250228T165007Z
UID:1489-1740787200-1740873599@adc.family
SUMMARY:March Monthly Challenge Starts!
DESCRIPTION:🌸  Spring & Summer Cookbook Challenge! 🌸 \nWe’ve loved seeing all your amazing recipes shared on our ADC.Family Cookbook\, and now that Spring and Summer are almost here\, it’s time for a fresh challenge! Do you have a go-to dish you love to make when the weather warms up? Whether it’s a BBQ favorite\, a delicious side\, or a sweet dessert\, we want to see it! \nSubmit your favorite recipes at ADC.Family and earn  50 POINTS for each recipe (up to 10 recipes per team member). With so many recipes being submitted\, the leaderboard could be getting a whole new shake-up! So\, let’s get those recipes in and start cooking up some fun! 😋 \nHappy cooking\, everyone! 🍽️
URL:https://adc.family/calendar/march-monthly-challenge-starts/
CATEGORIES:ADC Activities,Color Wars Points Challenge
ATTACH;FMTTYPE=image/png:https://adc.family/wp-content/uploads/2024/09/Monthly-Challenge-Graphic.png
END:VEVENT
BEGIN:VEVENT
DTSTART;VALUE=DATE:20250306
DTEND;VALUE=DATE:20250307
DTSTAMP:20260422T060922
CREATED:20250228T165624Z
LAST-MODIFIED:20250306T183639Z
UID:1494-1741219200-1741305599@adc.family
SUMMARY:Time for Another ADC Flash Challenge—Oh\, the Places We Will Go!
DESCRIPTION:Did you know we kicked off this week by celebrating not only Dr. Seuss’s Birthday but Read Across America Day on March 2nd! And what better way to celebrate than with a Flash Challenge that’s seuss-ational? \n\nDo you have a favorite Dr. Seuss book? Do you think you know one—or maybe even all of them? This challenge will bring the team together in Bunches of ways—just like Seuss would want! \n\nHere’s how it works: \n\nYour Team Champion will share the ADC Dr. Seuss Book Grid in your team’s Zoom room.\nWork together to guess each book on the grid—don’t leave any behind!\nOnce your team’s guesses are in\, have your Team Champion submit them in the ADC Off-Topic room (and don’t forget to tag me when you submit!).\nIf you need to make changes after submitting\, don’t edit your original post—just repost your guesses again!\n\n\nThe first team to complete the challenge and guess every book on the grid correctly will earn 100 points! Second place will get 75 points\, and third place scores 50 points! \n\nLet the fun begin\, and may the best team win—in true Seuss style!
URL:https://adc.family/calendar/march-flash-challenge-1/
CATEGORIES:ADC Activities,Color Wars Points Challenge
ATTACH;FMTTYPE=image/png:https://adc.family/wp-content/uploads/2024/09/Color-Wars-Flash-Challenge-Graphic.png
END:VEVENT
BEGIN:VEVENT
DTSTART;TZID=Pacific/Easter:20250312T200000
DTEND;TZID=Pacific/Easter:20250312T210000
DTSTAMP:20260422T060922
CREATED:20250228T184555Z
LAST-MODIFIED:20250303T194953Z
UID:1498-1741809600-1741813200@adc.family
SUMMARY:ADC Trivia Night – Featuring Guest Host Lisa Archetti!
DESCRIPTION:That’s right\, it’s ADC Trivia Night\, coming to you LIVE on March 12th\, 2025!\nYour delightful and dazzling host for the evening\, the incomparable Lisa Archetti\, will guide you through a whirlwind of questions\, puzzles\, and surprises! 💫 She’s the queen of questions 👑\, the sultan of suspense 😱\, and the wizard of wit 🧙‍♀️! Get ready to have your mind twisted and your fingers twitching for that big buzzer moment! 💡 \nDo you have the answers? 🧐 Will you be the reigning trivia champion of ADC? 🏆 Will you outwit\, outlast\, and out-trivia the competition? Only time will tell… and maybe a little help from your friends! 🤝 Bring your team\, bring your knowledge\, and bring your A-game! 🎯 \nSo mark your calendars\, folks! 📅 March 12th\, 2025 – it’s an evening of thrills\, spills\, and trivia skills with Lisa Archetti! 🎤 We’ll see you there… in the spotlight… under the big lights of ADC Trivia Night! 🌟 And remember – the correct answer is always just one question away! ✅ \n(Be sure to tune in\, or be left wondering – “What could have been?!”) 🤔 \nRegister for Game Night Here:
URL:https://adc.family/calendar/march-game-night/
CATEGORIES:ADC Activities,Color Wars Points Challenge
ATTACH;FMTTYPE=image/png:https://adc.family/wp-content/uploads/2025/02/ADC-Family-Game-Night-Graphic.png
END:VEVENT
BEGIN:VEVENT
DTSTART;VALUE=DATE:20250318
DTEND;VALUE=DATE:20250319
DTSTAMP:20260422T060922
CREATED:20250228T165824Z
LAST-MODIFIED:20250318T135752Z
UID:1496-1742256000-1742342399@adc.family
SUMMARY:Flash Challenge Alert!  💥 : Disney Emoji Edition
DESCRIPTION:We’ve got a magical new challenge to light up your day—get ready for a DISNEY MOVIE EMOJI GUESSING GAME! 🎬✨ \nHere’s how it works: \nYour Team Champion will drop the Disney Emoji Grid into your team’s Zoom room. \nAs a team\, work together to guess the Disney movie represented by each set of emojis. \nOnce your team has locked in your guesses\, have your Team Champion submit them in the Off-Topic Lounge Room (and don’t forget to tag me once you’ve submitted your answers!). \n🏆 Points Breakdown: \nFirst place: 100 points \nSecond place: 75 points \nThird place: 50 points \nReady\, set\, guess! 🎉 Good luck and may the Disney magic be with you! ✨
URL:https://adc.family/calendar/march-flash-challenge-2/
CATEGORIES:ADC Activities,Color Wars Points Challenge
ATTACH;FMTTYPE=image/png:https://adc.family/wp-content/uploads/2024/09/Color-Wars-Flash-Challenge-Graphic.png
END:VEVENT
END:VCALENDAR