BEGIN:VCALENDAR
VERSION:2.0
PRODID:-//ADC.Family - ECPv6.15.20//NONSGML v1.0//EN
CALSCALE:GREGORIAN
METHOD:PUBLISH
X-ORIGINAL-URL:https://adc.family
X-WR-CALDESC:Events for ADC.Family
REFRESH-INTERVAL;VALUE=DURATION:PT1H
X-Robots-Tag:noindex
X-PUBLISHED-TTL:PT1H
BEGIN:VTIMEZONE
TZID:UTC
BEGIN:STANDARD
TZOFFSETFROM:+0000
TZOFFSETTO:+0000
TZNAME:UTC
DTSTART:20240101T000000
END:STANDARD
END:VTIMEZONE
BEGIN:VTIMEZONE
TZID:Pacific/Easter
BEGIN:STANDARD
TZOFFSETFROM:-0500
TZOFFSETTO:-0600
TZNAME:-06
DTSTART:20240407T030000
END:STANDARD
BEGIN:DAYLIGHT
TZOFFSETFROM:-0600
TZOFFSETTO:-0500
TZNAME:-05
DTSTART:20240908T040000
END:DAYLIGHT
BEGIN:STANDARD
TZOFFSETFROM:-0500
TZOFFSETTO:-0600
TZNAME:-06
DTSTART:20250406T030000
END:STANDARD
BEGIN:DAYLIGHT
TZOFFSETFROM:-0600
TZOFFSETTO:-0500
TZNAME:-05
DTSTART:20250907T040000
END:DAYLIGHT
BEGIN:STANDARD
TZOFFSETFROM:-0500
TZOFFSETTO:-0600
TZNAME:-06
DTSTART:20260405T030000
END:STANDARD
BEGIN:DAYLIGHT
TZOFFSETFROM:-0600
TZOFFSETTO:-0500
TZNAME:-05
DTSTART:20260906T040000
END:DAYLIGHT
END:VTIMEZONE
BEGIN:VEVENT
DTSTART;VALUE=DATE:20250201
DTEND;VALUE=DATE:20250202
DTSTAMP:20260422T081022
CREATED:20250203T120633Z
LAST-MODIFIED:20250203T120633Z
UID:1259-1738368000-1738454399@adc.family
SUMMARY:February Monthly Challenge Starts!
DESCRIPTION:💥 February Nectar Points Challenge – Let’s Show Some Love and Earn BIG! 💥\nHey ADC Team!\nFebruary is here\, and it’s time to spread some serious appreciation! Use your Nectar points to shout out teammates who’ve gone above and beyond this month.\nBig win or small gesture – let’s recognize the awesome work happening all around us! \nHere’s how it works: \n\nIf you give away ALL of your monthly Nectar points in February\, you’ll earn 10 points for your Color Wars team.\nIf everyone on your team gives away ALL their Nectar points this month\, your team will score a 250-point bonus!\n\nLet’s make this month all about showing love\, lifting each other up\, and racking up those points! Ready to spread the good vibes? \nLet’s crush it\, ADC! 🎉
URL:https://adc.family/calendar/february-monthly-challenge-starts/
CATEGORIES:ADC Activities,Color Wars Points Challenge
ATTACH;FMTTYPE=image/png:https://adc.family/wp-content/uploads/2024/09/Monthly-Challenge-Graphic.png
END:VEVENT
BEGIN:VEVENT
DTSTART;VALUE=DATE:20250207
DTEND;VALUE=DATE:20250208
DTSTAMP:20260422T081022
CREATED:20250203T120849Z
LAST-MODIFIED:20250207T134004Z
UID:1262-1738886400-1738972799@adc.family
SUMMARY:Pizza Party Photo Challenge!
DESCRIPTION:Who’s Ready for a Flash Challenge to Celebrate the Annual ADC Virtual Pizza Party?!\n\n🍕 Big shoutout to everyone for powering through and wrapping up the 1099s this year! You all absolutely crushed it (as always)\, and ADC wants to celebrate you and all your hard work—when we celebrate\, we go all in! 🎉 \nShare pics of you enjoying that perfect pizza slice\, biting into a bagel\, or whatever treat you had delivered! Let’s have fun and celebrate together! \nSnap a pic with your pizza (or other ADC treat) post them in the #Off-Topic Lounge zoom room and earn 10 Flash Challenge points for your team! Rock your team color to double those points! Whose Ready To Party?!😋🎉
URL:https://adc.family/calendar/february-flash-challenge/
CATEGORIES:ADC Activities,Color Wars Points Challenge
ATTACH;FMTTYPE=image/png:https://adc.family/wp-content/uploads/2024/09/Color-Wars-Flash-Challenge-Graphic.png
END:VEVENT
BEGIN:VEVENT
DTSTART;TZID=Pacific/Easter:20250211T200000
DTEND;TZID=Pacific/Easter:20250211T210000
DTSTAMP:20260422T081022
CREATED:20250203T121547Z
LAST-MODIFIED:20250228T185440Z
UID:1269-1739304000-1739307600@adc.family
SUMMARY:ADC Bingo Night - Featuring Guest Host Abby Jones!
DESCRIPTION:Unlock the Fun – Virtual Bingo Night! ️\nMark your calendars for February 11th! We’re getting ready for a fun-filled night of laughter\, luck\, and good times—and you won’t want to miss it! \nHow to RSVP & Important Info:\n• RSVP through the link below.\n• You can RSVP until the day before the event.\n• The Marketing Team will send out Bingo card links the morning of game night\, so be sure to check your inbox! \nWhat if you RSVP after the links have been sent?\n• No problem! If you sign up after the initial links are sent\, our team will send your Bingo card directly to you via email or Zoom. \nNot sure if you’ll be able to attend until the last minute?\n• No worries at all! If you hop on the call at the start of the event\, the game host will send you a Bingo card link then. Even if you miss the RSVP deadline\, you can still join in the fun!\nWe can’t wait to see you there for a night of laughter\, camaraderie\, and excitement! \nRegister for Game Night Here:
URL:https://adc.family/calendar/adc-bingo-night-featuring-guest-host-abby-jones-2/
CATEGORIES:ADC Activities,Color Wars Points Challenge
ATTACH;FMTTYPE=image/png:https://adc.family/wp-content/uploads/2024/11/ADC-Family-Game-Night-Graphic.png
END:VEVENT
BEGIN:VEVENT
DTSTART;VALUE=DATE:20250220
DTEND;VALUE=DATE:20250221
DTSTAMP:20260422T081022
CREATED:20250203T121052Z
LAST-MODIFIED:20250220T160922Z
UID:1266-1740009600-1740095999@adc.family
SUMMARY:Flash Challenge: TEAM CLOSE UP GUESSING GAME!
DESCRIPTION:Flash Challenge Alert! \nWe’ve got a fun new challenge to spice up your February—it’s time for a TEAM CLOSE UP GUESSING GAME!  \nHere’s how it works: \n\nYour Team Champion will drop the ADC Close Up Grid into your team Zoom room.\nAs a team\, collaborate and guess each item on the grid.\nOnce you’ve finalized your guesses\, have your Team Champion submit them in the ADC Off-Topic room (and don’t forget to tag me once you’ve submitted!).\n\nThe first team to finish will earn 100 points\, second place gets 75 points\, and third place scores 50 points! \nReady\, set\, guess! Good luck!
URL:https://adc.family/calendar/february-flash-challenge-2/
CATEGORIES:ADC Activities,Color Wars Points Challenge
ATTACH;FMTTYPE=image/png:https://adc.family/wp-content/uploads/2024/09/Color-Wars-Flash-Challenge-Graphic.png
END:VEVENT
BEGIN:VEVENT
DTSTART;TZID=Pacific/Easter:20250227T190000
DTEND;TZID=Pacific/Easter:20250227T200000
DTSTAMP:20260422T081022
CREATED:20250204T202736Z
LAST-MODIFIED:20250204T202937Z
UID:1308-1740682800-1740686400@adc.family
SUMMARY:February Book Club Meeting
DESCRIPTION:February’s Book Club meets at 7pm ET on February 27th. The book of the month is The Wager: A Tale of Shipwreck\, Mutiny & Murder by David Grann! \nIn Person Meeting Participants and/or Readers Should Complete the Participant Form for Team Credit:
URL:https://adc.family/calendar/february-book-club-meeting/
CATEGORIES:ADC Activities,Color Wars Points Challenge
ATTACH;FMTTYPE=image/png:https://adc.family/wp-content/uploads/2024/09/ADC-Book-Club-Graphic.png
END:VEVENT
BEGIN:VEVENT
DTSTART;VALUE=DATE:20250228
DTEND;VALUE=DATE:20250301
DTSTAMP:20260422T081022
CREATED:20250203T121740Z
LAST-MODIFIED:20250203T121740Z
UID:1271-1740700800-1740787199@adc.family
SUMMARY:February Monthly Challenge Ends!
DESCRIPTION:💥 February Nectar Points Challenge – Let’s Show Some Love and Earn BIG! 💥\nHey ADC Team!\nFebruary is here\, and it’s time to spread some serious appreciation! Use your Nectar points to shout out teammates who’ve gone above and beyond this month.\nBig win or small gesture – let’s recognize the awesome work happening all around us! \nHere’s how it works: \n\nIf you give away ALL of your monthly Nectar points in February\, you’ll earn 10 points for your Color Wars team.\nIf everyone on your team gives away ALL their Nectar points this month\, your team will score a 250-point bonus!\n\nLet’s make this month all about showing love\, lifting each other up\, and racking up those points! Ready to spread the good vibes? \nLet’s crush it\, ADC! 🎉
URL:https://adc.family/calendar/february-monthly-challenge-ends/
CATEGORIES:ADC Activities,Color Wars Points Challenge
ATTACH;FMTTYPE=image/png:https://adc.family/wp-content/uploads/2024/09/Monthly-Challenge-Graphic.png
END:VEVENT
END:VCALENDAR