BEGIN:VCALENDAR
VERSION:2.0
PRODID:-//ADC.Family - ECPv6.15.20//NONSGML v1.0//EN
CALSCALE:GREGORIAN
METHOD:PUBLISH
X-ORIGINAL-URL:https://adc.family
X-WR-CALDESC:Events for ADC.Family
REFRESH-INTERVAL;VALUE=DURATION:PT1H
X-Robots-Tag:noindex
X-PUBLISHED-TTL:PT1H
BEGIN:VTIMEZONE
TZID:Pacific/Easter
BEGIN:STANDARD
TZOFFSETFROM:-0500
TZOFFSETTO:-0600
TZNAME:-06
DTSTART:20230402T030000
END:STANDARD
BEGIN:DAYLIGHT
TZOFFSETFROM:-0600
TZOFFSETTO:-0500
TZNAME:-05
DTSTART:20230903T040000
END:DAYLIGHT
BEGIN:STANDARD
TZOFFSETFROM:-0500
TZOFFSETTO:-0600
TZNAME:-06
DTSTART:20240407T030000
END:STANDARD
BEGIN:DAYLIGHT
TZOFFSETFROM:-0600
TZOFFSETTO:-0500
TZNAME:-05
DTSTART:20240908T040000
END:DAYLIGHT
BEGIN:STANDARD
TZOFFSETFROM:-0500
TZOFFSETTO:-0600
TZNAME:-06
DTSTART:20250406T030000
END:STANDARD
BEGIN:DAYLIGHT
TZOFFSETFROM:-0600
TZOFFSETTO:-0500
TZNAME:-05
DTSTART:20250907T040000
END:DAYLIGHT
END:VTIMEZONE
BEGIN:VEVENT
DTSTART;TZID=Pacific/Easter:20241010T200000
DTEND;TZID=Pacific/Easter:20241010T210000
DTSTAMP:20260422T150911
CREATED:20241002T130846Z
LAST-MODIFIED:20241118T194411Z
UID:543-1728590400-1728594000@adc.family
SUMMARY:ADC Bingo Night - Featuring Guest Host Amy Harold!
DESCRIPTION:Join us for an evening of fun and friendly competition at our ADC Family Game Night! Hosted by Amy Harold\, this is a great opportunity to unwind\, connect with colleagues\, and showcase your gaming skills. \nRegister for Game Night Here:
URL:https://adc.family/calendar/adc-family-game-night-featuring-amy-harold/
CATEGORIES:ADC Activities,Color Wars Points Challenge
ATTACH;FMTTYPE=image/png:https://adc.family/wp-content/uploads/2024/10/ADC-Family-Game-Night-Graphic.png
END:VEVENT
END:VCALENDAR