BEGIN:VCALENDAR
VERSION:2.0
PRODID:-//ADC.Family - ECPv6.15.20//NONSGML v1.0//EN
CALSCALE:GREGORIAN
METHOD:PUBLISH
X-WR-CALNAME:ADC.Family
X-ORIGINAL-URL:https://adc.family
X-WR-CALDESC:Events for ADC.Family
REFRESH-INTERVAL;VALUE=DURATION:PT1H
X-Robots-Tag:noindex
X-PUBLISHED-TTL:PT1H
BEGIN:VTIMEZONE
TZID:UTC
BEGIN:STANDARD
TZOFFSETFROM:+0000
TZOFFSETTO:+0000
TZNAME:UTC
DTSTART:20250101T000000
END:STANDARD
END:VTIMEZONE
BEGIN:VEVENT
DTSTART;VALUE=DATE:20261225
DTEND;VALUE=DATE:20261226
DTSTAMP:20260422T004352
CREATED:20260126T180700Z
LAST-MODIFIED:20260126T180700Z
UID:3503-1798156800-1798243199@adc.family
SUMMARY:🎄 Christmas Holiday 🎄
DESCRIPTION:Office Closure for Christmas Holiday \nIn celebration of the Christmas holiday\, The AccountingDepartment.com offices will be closed on Christmas Day. \nWe encourage our team members to take this time to relax\, recharge\, and enjoy meaningful moments with family and loved ones.
URL:https://adc.family/calendar/%f0%9f%8e%84-christmas-holiday-%f0%9f%8e%84/
CATEGORIES:ADC Holidays
ATTACH;FMTTYPE=image/png:https://adc.family/wp-content/uploads/2026/01/Christmas-v3.png
END:VEVENT
END:VCALENDAR