BEGIN:VCALENDAR
VERSION:2.0
PRODID:-//ADC.Family - ECPv6.15.20//NONSGML v1.0//EN
CALSCALE:GREGORIAN
METHOD:PUBLISH
X-WR-CALNAME:ADC.Family
X-ORIGINAL-URL:https://adc.family
X-WR-CALDESC:Events for ADC.Family
REFRESH-INTERVAL;VALUE=DURATION:PT1H
X-Robots-Tag:noindex
X-PUBLISHED-TTL:PT1H
BEGIN:VTIMEZONE
TZID:UTC
BEGIN:STANDARD
TZOFFSETFROM:+0000
TZOFFSETTO:+0000
TZNAME:UTC
DTSTART:20250101T000000
END:STANDARD
END:VTIMEZONE
BEGIN:VEVENT
DTSTART;VALUE=DATE:20260120
DTEND;VALUE=DATE:20260121
DTSTAMP:20260421T174635
CREATED:20260121T014625Z
LAST-MODIFIED:20260121T020942Z
UID:3463-1768867200-1768953599@adc.family
SUMMARY:⭐ Martin Luther King Jr. Day ⭐
DESCRIPTION:📅 AccountingDepartment.com recognizes Martin Luther King Jr. Day as a potential floating holiday. Team members may choose to observe this holiday in accordance with company policy. \n📌 For additional details\, please see the Employee Time Off – Holidays OSCAR post.
URL:https://adc.family/calendar/%e2%ad%90-martin-luther-king-jr-day-%e2%ad%90/
CATEGORIES:ADC Holidays
ATTACH;FMTTYPE=image/jpeg:https://adc.family/wp-content/uploads/2026/01/MLK-Day-scaled.jpg
END:VEVENT
END:VCALENDAR