BEGIN:VCALENDAR
VERSION:2.0
PRODID:-//ADC.Family - ECPv6.15.20//NONSGML v1.0//EN
CALSCALE:GREGORIAN
METHOD:PUBLISH
X-WR-CALNAME:ADC.Family
X-ORIGINAL-URL:https://adc.family
X-WR-CALDESC:Events for ADC.Family
REFRESH-INTERVAL;VALUE=DURATION:PT1H
X-Robots-Tag:noindex
X-PUBLISHED-TTL:PT1H
BEGIN:VTIMEZONE
TZID:UTC
BEGIN:STANDARD
TZOFFSETFROM:+0000
TZOFFSETTO:+0000
TZNAME:UTC
DTSTART:20250101T000000
END:STANDARD
END:VTIMEZONE
BEGIN:VEVENT
DTSTART;VALUE=DATE:20261111
DTEND;VALUE=DATE:20261112
DTSTAMP:20260421T211049
CREATED:20260121T022206Z
LAST-MODIFIED:20260121T022206Z
UID:3484-1794355200-1794441599@adc.family
SUMMARY:⭐ Veterans Day ⭐
DESCRIPTION:📅 AccountingDepartment.com recognizes Veterans Day as a potential floating holiday. Team members may choose to observe this holiday in accordance with company policy. \n📌 For additional details\, please see the Employee Time Off – Holidays OSCAR post.
URL:https://adc.family/calendar/%e2%ad%90-veterans-day-%e2%ad%90/
CATEGORIES:ADC Holidays
ATTACH;FMTTYPE=image/jpeg:https://adc.family/wp-content/uploads/2026/01/VeteransDay760x428.jpg
END:VEVENT
BEGIN:VEVENT
DTSTART;VALUE=DATE:20261126
DTEND;VALUE=DATE:20261127
DTSTAMP:20260421T211049
CREATED:20260126T174407Z
LAST-MODIFIED:20260126T174407Z
UID:3497-1795651200-1795737599@adc.family
SUMMARY:🦃 Thanksgiving Holiday 🦃
DESCRIPTION:Office Closure for Thanksgiving Holiday\nIn celebration of Thanksgiving\, TheAccountingDepartment.com offices will be closed on Thanksgiving Day and the following Friday.\nWe encourage our team members to take this time to relax\, recharge\, and enjoy meaningful moments with family and friends.
URL:https://adc.family/calendar/%f0%9f%a6%83-thanksgiving-holiday-%f0%9f%a6%83/
CATEGORIES:ADC Holidays
ATTACH;FMTTYPE=image/jpeg:https://adc.family/wp-content/uploads/2026/01/qtq80-mLXghj.jpeg
END:VEVENT
END:VCALENDAR