BEGIN:VCALENDAR
VERSION:2.0
PRODID:-//ADC.Family - ECPv6.15.20//NONSGML v1.0//EN
CALSCALE:GREGORIAN
METHOD:PUBLISH
X-ORIGINAL-URL:https://adc.family
X-WR-CALDESC:Events for ADC.Family
REFRESH-INTERVAL;VALUE=DURATION:PT1H
X-Robots-Tag:noindex
X-PUBLISHED-TTL:PT1H
BEGIN:VTIMEZONE
TZID:UTC
BEGIN:STANDARD
TZOFFSETFROM:+0000
TZOFFSETTO:+0000
TZNAME:UTC
DTSTART:20250101T000000
END:STANDARD
END:VTIMEZONE
BEGIN:VEVENT
DTSTART;VALUE=DATE:20260216
DTEND;VALUE=DATE:20260217
DTSTAMP:20260421T142934
CREATED:20260121T014907Z
LAST-MODIFIED:20260121T020830Z
UID:3470-1771200000-1771286399@adc.family
SUMMARY:⭐ President's Day ⭐
DESCRIPTION:📅 AccountingDepartment.com recognizes Presidents Day as a potential floating holiday. Team members may choose to observe this holiday in accordance with company policy. \n📌 For additional details\, please see the Employee Time Off – Holidays OSCAR post.
URL:https://adc.family/calendar/presidents-day/
CATEGORIES:ADC Holidays
ATTACH;FMTTYPE=image/jpeg:https://adc.family/wp-content/uploads/2026/01/Presidents-Day.jpg
END:VEVENT
BEGIN:VEVENT
DTSTART;VALUE=DATE:20260217
DTEND;VALUE=DATE:20260218
DTSTAMP:20260421T142934
CREATED:20260216T124054Z
LAST-MODIFIED:20260216T124559Z
UID:3568-1771286400-1771372799@adc.family
SUMMARY:⭐ Chinese New Year ⭐
DESCRIPTION:AccountingDepartment.com recognizes the Chinese New Year as a potential floating holiday. Team members may choose to observe this holiday in accordance with company policy. \n For additional details\, please see the Employee Time Off – Holidays ADC Holiday List OSCAR post.
URL:https://adc.family/calendar/%e2%ad%90-chinese-new-year%e2%ad%90/
CATEGORIES:ADC Activities,ADC Holidays
ATTACH;FMTTYPE=image/png:https://adc.family/wp-content/uploads/2026/02/Chinese-New-Year-v1.png
END:VEVENT
END:VCALENDAR