BEGIN:VCALENDAR
VERSION:2.0
PRODID:-//ADC.Family - ECPv6.15.20//NONSGML v1.0//EN
CALSCALE:GREGORIAN
METHOD:PUBLISH
X-ORIGINAL-URL:https://adc.family
X-WR-CALDESC:Events for ADC.Family
REFRESH-INTERVAL;VALUE=DURATION:PT1H
X-Robots-Tag:noindex
X-PUBLISHED-TTL:PT1H
BEGIN:VTIMEZONE
TZID:UTC
BEGIN:STANDARD
TZOFFSETFROM:+0000
TZOFFSETTO:+0000
TZNAME:UTC
DTSTART:20250101T000000
END:STANDARD
END:VTIMEZONE
BEGIN:VEVENT
DTSTART;VALUE=DATE:20261230
DTEND;VALUE=DATE:20261231
DTSTAMP:20260421T164057
CREATED:20260216T124544Z
LAST-MODIFIED:20260216T124544Z
UID:3571-1798588800-1798675199@adc.family
SUMMARY:⭐ Rizal Day ⭐
DESCRIPTION:AccountingDepartment.com recognizes Rizal Day as a potential floating holiday. Team members may choose to observe this holiday in accordance with company policy. \n For additional details\, please see the Employee Time Off – Holidays ADC Holiday List OSCAR post.
URL:https://adc.family/calendar/%e2%ad%90-rizal-day-%e2%ad%90/
CATEGORIES:ADC Activities,ADC Holidays
ATTACH;FMTTYPE=image/png:https://adc.family/wp-content/uploads/2026/02/Rizal-Day-v1.png
END:VEVENT
BEGIN:VEVENT
DTSTART;VALUE=DATE:20261231
DTEND;VALUE=DATE:20270101
DTSTAMP:20260421T164057
CREATED:20260216T125853Z
LAST-MODIFIED:20260216T125853Z
UID:3576-1798675200-1798761599@adc.family
SUMMARY:⭐ New Year's Eve ⭐
DESCRIPTION:AccountingDepartment.com recognizes New Year’s Eve as a potential floating holiday. Team members may choose to observe this holiday in accordance with company policy. \n For additional details\, please see the Employee Time Off – Holidays ADC Holiday List OSCAR post.
URL:https://adc.family/calendar/%e2%ad%90-new-years-eve-%e2%ad%90/
CATEGORIES:ADC Activities,ADC Holidays
ATTACH;FMTTYPE=image/png:https://adc.family/wp-content/uploads/2026/02/12.31-v3.png
END:VEVENT
END:VCALENDAR