BEGIN:VCALENDAR
VERSION:2.0
PRODID:-//ADC.Family - ECPv6.15.20//NONSGML v1.0//EN
CALSCALE:GREGORIAN
METHOD:PUBLISH
X-WR-CALNAME:ADC.Family
X-ORIGINAL-URL:https://adc.family
X-WR-CALDESC:Events for ADC.Family
REFRESH-INTERVAL;VALUE=DURATION:PT1H
X-Robots-Tag:noindex
X-PUBLISHED-TTL:PT1H
BEGIN:VTIMEZONE
TZID:UTC
BEGIN:STANDARD
TZOFFSETFROM:+0000
TZOFFSETTO:+0000
TZNAME:UTC
DTSTART:20250101T000000
END:STANDARD
END:VTIMEZONE
BEGIN:VEVENT
DTSTART;VALUE=DATE:20260206
DTEND;VALUE=DATE:20260207
DTSTAMP:20260423T153241
CREATED:20260120T180718Z
LAST-MODIFIED:20260120T181119Z
UID:3458-1770336000-1770422399@adc.family
SUMMARY:🍕 ADC's Annual Virtual Pizza Party 🍕
DESCRIPTION:January may be known for 1099s—but the real reward comes in February with the Annual ADC Pizza Party! 🍕 \nAs a thank you to everyone for their hard work during 1099 season\, AccountingDepartment.com will host its annual Pizza Party on the first Friday of February\, once 1099s are officially complete. \nNew to ADC and wondering how a pizza party works in a virtual environment? We’ve got you covered! A fresh\, piping-hot cheese pizza will be delivered to each team member’s home at 12:00 PM on Friday\, February 6th\, so you can relax\, recharge\, and enjoy lunch on us after a busy season. \nThank you for everything you do to help keep ADC the leading provider of outsourced accounting services. Once your pizza arrives\, don’t forget to snap a photo and share it with your fellow team members in the #Off Topic Lounge Zoom Room! 🍕
URL:https://adc.family/calendar/annual-virtual-pizza-party/
CATEGORIES:ADC Activities
ATTACH;FMTTYPE=image/png:https://adc.family/wp-content/uploads/2025/02/Untitled-3.png
END:VEVENT
END:VCALENDAR