BEGIN:VCALENDAR
VERSION:2.0
PRODID:-//ADC.Family - ECPv6.15.20//NONSGML v1.0//EN
CALSCALE:GREGORIAN
METHOD:PUBLISH
X-WR-CALNAME:ADC.Family
X-ORIGINAL-URL:https://adc.family
X-WR-CALDESC:Events for ADC.Family
REFRESH-INTERVAL;VALUE=DURATION:PT1H
X-Robots-Tag:noindex
X-PUBLISHED-TTL:PT1H
BEGIN:VTIMEZONE
TZID:UTC
BEGIN:STANDARD
TZOFFSETFROM:+0000
TZOFFSETTO:+0000
TZNAME:UTC
DTSTART:20250101T000000
END:STANDARD
END:VTIMEZONE
BEGIN:VEVENT
DTSTART;VALUE=DATE:20260203
DTEND;VALUE=DATE:20260204
DTSTAMP:20260423T153241
CREATED:20260121T023700Z
LAST-MODIFIED:20260204T112221Z
UID:3489-1770076800-1770163199@adc.family
SUMMARY:🎉 2026 Color Wars Kick Off 🎉
DESCRIPTION:🎉 The countdown is over—it’s time to kick off the 2026 Color Wars! \nStay tuned for exciting announcements\, including brand-new teams\, fresh colors\, and more surprises ahead. 🏆 
URL:https://adc.family/calendar/2026-color-wars-kickoff/
CATEGORIES:ADC Activities
ATTACH;FMTTYPE=image/png:https://adc.family/wp-content/uploads/2026/01/CW26-Banner-Final.png
END:VEVENT
END:VCALENDAR